Workbook

Sheet Итог
B1: Чистка базы
B2: Пример 1 из 3, лёгкая задача. Selge Data, Станислав
B4: Задача
B5: Клиент (небольшой интернет-магазин) собирал контакты покупателей в трёх местах: старый Excel, выгрузка из магазина и записи менеджера. Одни и те же люди встречались по 2–3 раза, телефоны и email были записаны по-разному. Нужен один чистый список для рассылки и звонков.
B7: Главные цифры
B8: Строк в трёх файлах | D8: Дублей найдено и убрано | F8: Уникальных клиентов | H8: Телефонов приведено к формату | J8: Строк на проверку клиенту
B9: =COUNTA(Обработка!B5:B81) -> 77 | D9: =COUNTIF(Обработка!M5:M81,"Дубль") -> 27 | F9: =COUNTIF(Обработка!M5:M81,"Оставить") -> 50 | H9: =SUMPRODUCT(--NOT(EXACT(Обработка!G5:G81,Обработка!E5:E81))) -> 68 | J9: =COUNTIF(Обработка!N5:N81,"Проверить") -> 4
B11: =IF(D9+F9=B9,"✔ Контроль: строк было = уникальных + дублей, ничего не потерялось","✖ Контроль не сходится, проверить") -> ✔ Контроль: строк было = уникальных + дублей, ничего не потерялось
B13: Итог
B14: Из 77 строк в трёх файлах примерно каждая третья оказалась повтором. Больше всего дублей (10 в каждом) пришло из источников «Выгрузка магазина» и «Записи менеджера»: эти люди уже были в других списках.
B15: Телефоны теперь везде в одном виде +372 XXXX XXXX, email в нижнем регистре и без пробелов, имена с большой буквы, даты в формате ДД.ММ.ГГГГ. Чистый список на листе «Чистая база».
B16: Два случая я не стал решать сам: одинаковые имена, но разные телефоны и почта. Они на листе «Спорные случаи», там есть колонка для вашего решения.
B18: Как это выглядит
B35: Цифры для графиков (считаются формулами из листа «Обработка»)
B36: Источник | C36: Всего строк | D36: Из них дубли | G36: Что исправлено | H36: Строк
B37: Старый список (Excel) | C37: =COUNTIF(Обработка!B$5:B$81,B37) -> 25 | D37: =COUNTIFS(Обработка!B$5:B$81,B37,Обработка!M$5:M$81,"Дубль") -> 7 | G37: Имя (регистр, пробелы) | H37: =COUNTIF(Обработка!L$5:L$81,"*имя*") -> 58
B38: Выгрузка магазина | C38: =COUNTIF(Обработка!B$5:B$81,B38) -> 26 | D38: =COUNTIFS(Обработка!B$5:B$81,B38,Обработка!M$5:M$81,"Дубль") -> 10 | G38: Телефон (формат) | H38: =COUNTIF(Обработка!L$5:L$81,"*телефон*") -> 68
B39: Записи менеджера | C39: =COUNTIF(Обработка!B$5:B$81,B39) -> 26 | D39: =COUNTIFS(Обработка!B$5:B$81,B39,Обработка!M$5:M$81,"Дубль") -> 10 | G39: Email (регистр, пробелы) | H39: =COUNTIF(Обработка!L$5:L$81,"*email*") -> 42
G40: Дата (формат) | H40: =COUNTIF(Обработка!L$5:L$81,"*дата*") -> 52
B42: Что рекомендую дальше
B43: 1. Вести один список, а не три. Новый контакт сначала искать по телефону: если такой уже есть, дополнять старую строку.
B44: 2. В форме магазина сделать поле телефона с готовым +372, чтобы формат был одинаковым сразу.
B45: 3. Раз в квартал прогонять список через лист «Обработка»: формулы найдут новые дубли сами.
A47: Пример типичной задачи Selge Data. Компания и все данные вымышлены, совпадения случайны.

Sheet Ход работы
B1: Ход работы
B2: Что и в каком порядке я делал
B4: Шаг | C4: Что сделал | D4: Зачем | E4: Время | F4: Заметка
B5: 1 | C5: Скопировал три файла на один лист «Исходные данные», ничего в них не меняя | D5: Оригинал должен остаться как был, чтобы всегда можно было сверить | E5: 0.013888889 | F5: Добавил колонку «Источник», чтобы видеть, откуда пришла строка
B6: 2 | C6: Привёл имена: убрал лишние пробелы, первая буква большая | D6: «MARI TAMM», «mari tamm» и «Mari Tamm» это одно и то же имя | E6: 0.010416667 | F6: Формула PROPER(TRIM()). Двойные фамилии проверил глазами, их не было
B7: 3 | C7: Оставил в телефоне только цифры и сделал единый формат +372 XXXX XXXX | D7: Иначе 5123 4567 и +37251234567 выглядят как разные номера | E7: 0.027777778 | F7: В магазине номера с кодом страны, у менеджера по-разному. Все клиенты из Эстонии, уточнил у клиента
B8: 4 | C8: Email: нижний регистр, без пробелов по краям | D8: Почта не различает регистр, а пробел ломает рассылку | E8: 0.0069444444 | F8: У менеджера 16 адресов с пробелами по краям, при рассылке они бы не дошли
B9: 5 | C9: Даты из трёх форматов привёл к одному ДД.ММ.ГГГГ | D9: Чтобы можно было сортировать и фильтровать по дате | E9: 0.017361111 | F9: Формат 2024-03-12 из магазина и 12.03.24 из записей менеджера
B10: 6 | C10: Нашёл дубли: тот же телефон или тот же email, что уже был выше | D10: Один человек = одна строка | E10: 0.041666667 | F10: Сначала искал только по телефону, но у менеджера часть строк без телефона. Добавил поиск по email
B11: 7 | C11: Отметил тёзок с разными контактами как «Проверить» | D11: Удалить живого клиента хуже, чем оставить лишнюю строку | E11: 0.013888889 | F11: Не удаляю такие строки сам, решение за клиентом
B12: 8 | C12: Собрал чистый список и проверил контрольную сумму | D12: Строк было = уникальных + дублей, значит ничего не потерялось | E12: 0.017361111 | F12: Сверка сошлась с первого раза
B13: 9 | C13: Написал итог и рекомендации | D13: Чтобы через полгода не пришлось чистить снова | E13: 0.03125
D14: Всего времени | E14: =SUM(E5:E13) -> 0.18055556
A16: Пример типичной задачи Selge Data. Компания и все данные вымышлены, совпадения случайны.

Sheet Исходные данные
A1: Исходные данные
A2: Как прислал клиент. Здесь ничего не исправлено
A4: № | B4: Источник | C4: Имя | D4: Телефон | E4: Email | F4: Дата добавления
A5: 1 | B5: Старый список (Excel) | C5: Natalja Lepp | D5: 5839 0885 | E5: natalja.lepp@example.net | F5: 08.09.2023
A6: 2 | B6: Старый список (Excel) | C6: Piret Koppel | D6: 5963 2402 | E6: piret.koppel@example.com | F6: 03.10.2024
A7: 3 | B7: Выгрузка магазина | C7: tõnu kallas | D7: +37251702635 | E7: TONU.KALLAS@EXAMPLE.NET | F7: 2024-08-21
A8: 4 | B8: Выгрузка магазина | C8: irina popov | D8: +37255185891 | E8: Irina.popov@example.net | F8: 2023-03-24
A9: 5 | B9: Записи менеджера | C9: Anu Ilves | D9: (+372) 5429 8229 | E9: anu.ilves@example.net | F9: 20.08.24
A10: 6 | B10: Выгрузка магазина | C10: kristiina zahharov | D10: +37258679867 | E10: KRISTIINA.ZAHHAROV@EXAMPLE.ORG | F10: 2024-09-03
A11: 7 | B11: Записи менеджера | C11: Peeter Laur | D11: 372-5958-8401 | E11: peeter.laur@example.org | F11: 26.10.25
A12: 8 | B12: Записи менеджера | C12: Olga Orlova | E12: olga.orlova@example.com | F12: 14.03.25
A13: 9 | B13: Старый список (Excel) | C13: LIIS OJA | D13: 5439 8634 | E13: liis.oja@example.net | F13: 22.06.2023
A14: 10 | B14: Записи менеджера | C14: Triin Koppel | D14: (+372) 5485 3154 | E14: triin.koppel@example.net | F14: 03.01.24
A15: 11 | B15: Старый список (Excel) | C15: MARI POPOV | D15: 5741 4492 | E15: mari.popov@example.org | F15: 20.01.2025
A16: 12 | B16: Старый список (Excel) | C16: Marko Popov | D16: 5268 3304 | E16: marko.popov@example.com | F16: 15.04.2023
A17: 13 | B17: Выгрузка магазина | C17: jaan kask | D17: +37254191165 | E17: JAAN.KASK@EXAMPLE.COM | F17: 2025-01-25
A18: 14 | B18: Старый список (Excel) | C18: JAAN SEPP | D18: 5573 0535 | E18: jaan.sepp@example.org | F18: 05.10.2025
A19: 15 | B19: Старый список (Excel) | C19: Triin Koppel | D19: 5485 3154 | E19: triin.koppel@example.net | F19: 03.01.2024
A20: 16 | B20: Старый список (Excel) | C20: Peeter Laur | D20: 5958 8401 | E20: peeter.laur@example.org | F20: 26.10.2025
A21: 17 | B21: Выгрузка магазина | C21: liis oja | D21: +37254398634 | E21: Liis.oja@example.net | F21: 2023-06-22
A22: 18 | B22: Старый список (Excel) | C22: Aleksei Orlova | D22: 5936 0271 | E22: aleksei.orlova@example.com | F22: 22.07.2024
A23: 19 | B23: Выгрузка магазина | C23: natalja lepp | D23: +37258390885 | E23: Natalja.lepp@example.net | F23: 2023-09-08
A24: 20 | B24: Записи менеджера | C24: Jaan Kask | E24: jaan.kask@example.com | F24: 25.01.25
A25: 21 | B25: Выгрузка магазина | C25: svetlana teder | D25: +37256102708 | E25: Svetlana.teder@example.com | F25: 2023-03-13
A26: 22 | B26: Старый список (Excel) | C26: Kadri Kivi | D26: 5179 5266 | E26: kadri.kivi@example.com | F26: 17.01.2023
A27: 23 | B27: Выгрузка магазина | C27: kersti zahharov | D27: +37253173395 | E27: Kersti.zahharov@example.org | F27: 2024-02-22
A28: 24 | B28: Выгрузка магазина | C28: mari saar | D28: +37255516324 | E28: MARI.SAAR@EXAMPLE.ORG | F28: 2024-04-02
A29: 25 | B29: Старый список (Excel) | C29: Kadri Tamm | D29: 5100 9142 | E29: kadri.tamm@example.com | F29: 16.01.2023
A30: 26 | B30: Записи менеджера | C30: Anu Volkov | D30: 59384802 | E30: anu.volkov@example.com | F30: 15.02.25
A31: 27 | B31: Выгрузка магазина | C31: kadri ivanova | D31: +37255077080 | E31: Kadri.ivanova@example.com | F31: 2025-06-12
A32: 28 | B32: Выгрузка магазина | C32: anu pärn | D32: +37252954679 | E32: Anu.parn@example.org | F32: 2024-04-01
A33: 29 | B33: Выгрузка магазина | C33: kadri vaher | D33: +37252939116 | E33: KADRI.VAHER@EXAMPLE.ORG | F33: 2024-12-11
A34: 30 | B34: Старый список (Excel) | C34: Aleksei Kuusk | D34: 5623 1214 | E34: aleksei.kuusk@example.com | F34: 21.10.2023
A35: 31 | B35: Старый список (Excel) | C35: Sergei Tamm | D35: 5486 2478 | E35: sergei.tamm@example.net | F35: 25.08.2023
A36: 32 | B36: Записи менеджера | C36: Kadri Ivanova | D36: (+372) 5507 7080 | E36: kadri.ivanova@example.com | F36: 12.06.25
... A38: 34 | B38: Старый список (Excel) | C38: Katrin Raud | D38: 5335 4635 | E38: katrin.raud@example.net | F38: 16.01.2023
A39: 35 | B39: Записи менеджера | C39: Sergei Tamm | E39: sergei.tamm@example.net | F39: 25.08.23
A40: 36 | B40: Записи менеджера | C40: Kadri Kozlov | E40: kadri.kozlov@example.net | F40: 05.06.24
A41: 37 | B41: Выгрузка магазина | C41: aleksei kuusk | D41: +37256231214 | E41: Aleksei.kuusk@example.com | F41: 2023-10-21
A42: 38 | B42: Старый список (Excel) | C42: Sergei Kallas | D42: 5230 3074 | E42: sergei.kallas@example.org | F42: 19.08.2023
...

Sheet Обработка
A1: Обработка
A2: Каждый шаг отдельной колонкой с формулой. Зелёное = исправлено, красное = дубль, жёлтое = проверить
A4: № | B4: Источник | C4: Имя (как было) | D4: Имя (исправлено) | E4: Телефон (как было) | F4: Только цифры | G4: Телефон (единый формат) | H4: Email (как было) | I4: Email (исправлено) | J4: Дата (как было) | K4: Дата (исправлено) | L4: Что исправлено | M4: Статус | N4: Тёзки
A5: 1 | B5: ='Исходные данные'!B5 -> Старый список (Excel) | C5: ='Исходные данные'!C5 -> Natalja Lepp | D5: =PROPER(TRIM(C5)) -> Natalja Lepp | E5: ='Исходные данные'!D5&"" -> 5839 0885 | F5: =SUBSTITUTE(SUBSTITUTE(SUBSTITUTE(SUBSTITUTE(SUBSTITUTE(E5," ",""),"-",""),"+",""),"(",""),")","") -> 58390885 | G5: =IF(F5="","",IF(LEFT(F5,3)="372","+372 "&MID(F5,4,4)&" "&MID(F5,8,4),"+372 "&LEFT(F5,4)&" "&MID(F5,5,4))) -> +372 5839 0885 | H5: ='Исходные данные'!E5 -> natalja.lepp@example.net | I5: =LOWER(TRIM(H5)) -> natalja.lepp@example.net | J5: ='Исходные данные'!F5 -> 08.09.2023 | K5: =IF(MID(J5,5,1)="-",DATE(VALUE(LEFT(J5,4)),VALUE(MID(J5,6,2)),VALUE(RIGHT(J5,2))),IF(LEN(J5)=10,DATE(VALUE(RIGHT(J5,4)),VALUE(MID(J5,4,2)),VALUE(LEFT(J5,2))),DATE(2000+VALUE(RIGHT(J5,2)),VALUE(MID(J5,4,2)),VALUE(LEFT(J5,2))))) -> 45177 | L5: =TRIM(IF(EXACT(C5,D5),"","имя ")&IF(EXACT(E5,G5),"","телефон ")&IF(EXACT(H5,I5),"","email ")&IF(AND(LEN(J5)=10,MID(J5,3,1)="."),"","дата")) -> телефон | M5: =IF(AND(G5<>"",COUNTIF(G$4:G4,G5)>0),"Дубль",IF(AND(I5<>"",COUNTIF(I$4:I4,I5)>0),"Дубль","Оставить")) -> Оставить | N5: =IF(M5="Дубль","",IF(COUNTIFS(D$5:D$81,D5,M$5:M$81,"Оставить")>1,"Проверить",""))
A6: 2 | B6: ='Исходные данные'!B6 -> Старый список (Excel) | C6: ='Исходные данные'!C6 -> Piret Koppel | D6: =PROPER(TRIM(C6)) -> Piret Koppel | E6: ='Исходные данные'!D6&"" -> 5963 2402 | F6: =SUBSTITUTE(SUBSTITUTE(SUBSTITUTE(SUBSTITUTE(SUBSTITUTE(E6," ",""),"-",""),"+",""),"(",""),")","") -> 59632402 | G6: =IF(F6="","",IF(LEFT(F6,3)="372","+372 "&MID(F6,4,4)&" "&MID(F6,8,4),"+372 "&LEFT(F6,4)&" "&MID(F6,5,4))) -> +372 5963 2402 | H6: ='Исходные данные'!E6 -> piret.koppel@example.com | I6: =LOWER(TRIM(H6)) -> piret.koppel@example.com | J6: ='Исходные данные'!F6 -> 03.10.2024 | K6: =IF(MID(J6,5,1)="-",DATE(VALUE(LEFT(J6,4)),VALUE(MID(J6,6,2)),VALUE(RIGHT(J6,2))),IF(LEN(J6)=10,DATE(VALUE(RIGHT(J6,4)),VALUE(MID(J6,4,2)),VALUE(LEFT(J6,2))),DATE(2000+VALUE(RIGHT(J6,2)),VALUE(MID(J6,4,2)),VALUE(LEFT(J6,2))))) -> 45568 | L6: =TRIM(IF(EXACT(C6,D6),"","имя ")&IF(EXACT(E6,G6),"","телефон ")&IF(EXACT(H6,I6),"","email ")&IF(AND(LEN(J6)=10,MID(J6,3,1)="."),"","дата")) -> телефон | M6: =IF(AND(G6<>"",COUNTIF(G$4:G5,G6)>0),"Дубль",IF(AND(I6<>"",COUNTIF(I$4:I5,I6)>0),"Дубль","Оставить")) -> Оставить | N6: =IF(M6="Дубль","",IF(COUNTIFS(D$5:D$81,D6,M$5:M$81,"Оставить")>1,"Проверить",""))
A7: 3 | B7: ='Исходные данные'!B7 -> Выгрузка магазина | C7: ='Исходные данные'!C7 -> tõnu kallas | D7: =PROPER(TRIM(C7)) -> Tõnu Kallas | E7: ='Исходные данные'!D7&"" -> +37251702635 | F7: =SUBSTITUTE(SUBSTITUTE(SUBSTITUTE(SUBSTITUTE(SUBSTITUTE(E7," ",""),"-",""),"+",""),"(",""),")","") -> 37251702635 | G7: =IF(F7="","",IF(LEFT(F7,3)="372","+372 "&MID(F7,4,4)&" "&MID(F7,8,4),"+372 "&LEFT(F7,4)&" "&MID(F7,5,4))) -> +372 5170 2635 | H7: ='Исходные данные'!E7 -> TONU.KALLAS@EXAMPLE.NET | I7: =LOWER(TRIM(H7)) -> tonu.kallas@example.net | J7: ='Исходные данные'!F7 -> 2024-08-21 | K7: =IF(MID(J7,5,1)="-",DATE(VALUE(LEFT(J7,4)),VALUE(MID(J7,6,2)),VALUE(RIGHT(J7,2))),IF(LEN(J7)=10,DATE(VALUE(RIGHT(J7,4)),VALUE(MID(J7,4,2)),VALUE(LEFT(J7,2))),DATE(2000+VALUE(RIGHT(J7,2)),VALUE(MID(J7,4,2)),VALUE(LEFT(J7,2))))) -> 45525 | L7: =TRIM(IF(EXACT(C7,D7),"","имя ")&IF(EXACT(E7,G7),"","телефон ")&IF(EXACT(H7,I7),"","email ")&IF(AND(LEN(J7)=10,MID(J7,3,1)="."),"","дата")) -> имя телефон email дата | M7: =IF(AND(G7<>"",COUNTIF(G$4:G6,G7)>0),"Дубль",IF(AND(I7<>"",COUNTIF(I$4:I6,I7)>0),"Дубль","Оставить")) -> Оставить | N7: =IF(M7="Дубль","",IF(COUNTIFS(D$5:D$81,D7,M$5:M$81,"Оставить")>1,"Проверить","")) -> Проверить
A8: 4 | B8: ='Исходные данные'!B8 -> Выгрузка магазина | C8: ='Исходные данные'!C8 -> irina popov | D8: =PROPER(TRIM(C8)) -> Irina Popov | E8: ='Исходные данные'!D8&"" -> +37255185891 | F8: =SUBSTITUTE(SUBSTITUTE(SUBSTITUTE(SUBSTITUTE(SUBSTITUTE(E8," ",""),"-",""),"+",""),"(",""),")","") -> 37255185891 | G8: =IF(F8="","",IF(LEFT(F8,3)="372","+372 "&MID(F8,4,4)&" "&MID(F8,8,4),"+372 "&LEFT(F8,4)&" "&MID(F8,5,4))) -> +372 5518 5891 | H8: ='Исходные данные'!E8 -> Irina.popov@example.net | I8: =LOWER(TRIM(H8)) -> irina.popov@example.net | J8: ='Исходные данные'!F8 -> 2023-03-24 | K8: =IF(MID(J8,5,1)="-",DATE(VALUE(LEFT(J8,4)),VALUE(MID(J8,6,2)),VALUE(RIGHT(J8,2))),IF(LEN(J8)=10,DATE(VALUE(RIGHT(J8,4)),VALUE(MID(J8,4,2)),VALUE(LEFT(J8,2))),DATE(2000+VALUE(RIGHT(J8,2)),VALUE(MID(J8,4,2)),VALUE(LEFT(J8,2))))) -> 45009 | L8: =TRIM(IF(EXACT(C8,D8),"","имя ")&IF(EXACT(E8,G8),"","телефон ")&IF(EXACT(H8,I8),"","email ")&IF(AND(LEN(J8)=10,MID(J8,3,1)="."),"","дата")) -> имя телефон email дата | M8: =IF(AND(G8<>"",COUNTIF(G$4:G7,G8)>0),"Дубль",IF(AND(I8<>"",COUNTIF(I$4:I7,I8)>0),"Дубль","Оставить")) -> Оставить | N8: =IF(M8="Дубль","",IF(COUNTIFS(D$5:D$81,D8,M$5:M$81,"Оставить")>1,"Проверить",""))
A9: 5 | B9: ='Исходные данные'!B9 -> Записи менеджера | C9: ='Исходные данные'!C9 -> Anu Ilves | D9: =PROPER(TRIM(C9)) -> Anu Ilves | E9: ='Исходные данные'!D9&"" -> (+372) 5429 8229 | F9: =SUBSTITUTE(SUBSTITUTE(SUBSTITUTE(SUBSTITUTE(SUBSTITUTE(E9," ",""),"-",""),"+",""),"(",""),")","") -> 37254298229 | G9: =IF(F9="","",IF(LEFT(F9,3)="372","+372 "&MID(F9,4,4)&" "&MID(F9,8,4),"+372 "&LEFT(F9,4)&" "&MID(F9,5,4))) -> +372 5429 8229 | H9: ='Исходные данные'!E9 -> anu.ilves@example.net | I9: =LOWER(TRIM(H9)) -> anu.ilves@example.net | J9: ='Исходные данные'!F9 -> 20.08.24 | K9: =IF(MID(J9,5,1)="-",DATE(VALUE(LEFT(J9,4)),VALUE(MID(J9,6,2)),VALUE(RIGHT(J9,2))),IF(LEN(J9)=10,DATE(VALUE(RIGHT(J9,4)),VALUE(MID(J9,4,2)),VALUE(LEFT(J9,2))),DATE(2000+VALUE(RIGHT(J9,2)),VALUE(MID(J9,4,2)),VALUE(LEFT(J9,2))))) -> 45524 | L9: =TRIM(IF(EXACT(C9,D9),"","имя ")&IF(EXACT(E9,G9),"","телефон ")&IF(EXACT(H9,I9),"","email ")&IF(AND(LEN(J9)=10,MID(J9,3,1)="."),"","дата")) -> имя телефон дата | M9: =IF(AND(G9<>"",COUNTIF(G$4:G8,G9)>0),"Дубль",IF(AND(I9<>"",COUNTIF(I$4:I8,I9)>0),"Дубль","Оставить")) -> Оставить | N9: =IF(M9="Дубль","",IF(COUNTIFS(D$5:D$81,D9,M$5:M$81,"Оставить")>1,"Проверить",""))
A10: 6 | B10: ='Исходные данные'!B10 -> Выгрузка магазина | C10: ='Исходные данные'!C10 -> kristiina zahharov | D10: =PROPER(TRIM(C10)) -> Kristiina Zahharov | E10: ='Исходные данные'!D10&"" -> +37258679867 | F10: =SUBSTITUTE(SUBSTITUTE(SUBSTITUTE(SUBSTITUTE(SUBSTITUTE(E10," ",""),"-",""),"+",""),"(",""),")","") -> 37258679867 | G10: =IF(F10="","",IF(LEFT(F10,3)="372","+372 "&MID(F10,4,4)&" "&MID(F10,8,4),"+372 "&LEFT(F10,4)&" "&MID(F10,5,4))) -> +372 5867 9867 | H10: ='Исходные данные'!E10 -> KRISTIINA.ZAHHAROV@EXAMPLE.ORG | I10: =LOWER(TRIM(H10)) -> kristiina.zahharov@example.org | J10: ='Исходные данные'!F10 -> 2024-09-03 | K10: =IF(MID(J10,5,1)="-",DATE(VALUE(LEFT(J10,4)),VALUE(MID(J10,6,2)),VALUE(RIGHT(J10,2))),IF(LEN(J10)=10,DATE(VALUE(RIGHT(J10,4)),VALUE(MID(J10,4,2)),VALUE(LEFT(J10,2))),DATE(2000+VALUE(RIGHT(J10,2)),VALUE(MID(J10,4,2)),VALUE(LEFT(J10,2))))) -> 45538 | L10: =TRIM(IF(EXACT(C10,D10),"","имя ")&IF(EXACT(E10,G10),"","телефон ")&IF(EXACT(H10,I10),"","email ")&IF(AND(LEN(J10)=10,MID(J10,3,1)="."),"","дата")) -> имя телефон email дата | M10: =IF(AND(G10<>"",COUNTIF(G$4:G9,G10)>0),"Дубль",IF(AND(I10<>"",COUNTIF(I$4:I9,I10)>0),"Дубль","Оставить")) -> Оставить | N10: =IF(M10="Дубль","",IF(COUNTIFS(D$5:D$81,D10,M$5:M$81,"Оставить")>1,"Проверить",""))
A11: 7 | B11: ='Исходные данные'!B11 -> Записи менеджера | C11: ='Исходные данные'!C11 -> Peeter Laur | D11: =PROPER(TRIM(C11)) -> Peeter Laur | E11: ='Исходные данные'!D11&"" -> 372-5958-8401 | F11: =SUBSTITUTE(SUBSTITUTE(SUBSTITUTE(SUBSTITUTE(SUBSTITUTE(E11," ",""),"-",""),"+",""),"(",""),")","") -> 37259588401 | G11: =IF(F11="","",IF(LEFT(F11,3)="372","+372 "&MID(F11,4,4)&" "&MID(F11,8,4),"+372 "&LEFT(F11,4)&" "&MID(F11,5,4))) -> +372 5958 8401 | H11: ='Исходные данные'!E11 -> peeter.laur@example.org | I11: =LOWER(TRIM(H11)) -> peeter.laur@example.org | J11: ='Исходные данные'!F11 -> 26.10.25 | K11: =IF(MID(J11,5,1)="-",DATE(VALUE(LEFT(J11,4)),VALUE(MID(J11,6,2)),VALUE(RIGHT(J11,2))),IF(LEN(J11)=10,DATE(VALUE(RIGHT(J11,4)),VALUE(MID(J11,4,2)),VALUE(LEFT(J11,2))),DATE(2000+VALUE(RIGHT(J11,2)),VALUE(MID(J11,4,2)),VALUE(LEFT(J11,2))))) -> 45956 | L11: =TRIM(IF(EXACT(C11,D11),"","имя ")&IF(EXACT(E11,G11),"","телефон ")&IF(EXACT(H11,I11),"","email ")&IF(AND(LEN(J11)=10,MID(J11,3,1)="."),"","дата")) -> имя телефон email дата | M11: =IF(AND(G11<>"",COUNTIF(G$4:G10,G11)>0),"Дубль",IF(AND(I11<>"",COUNTIF(I$4:I10,I11)>0),"Дубль","Оставить")) -> Оставить | N11: =IF(M11="Дубль","",IF(COUNTIFS(D$5:D$81,D11,M$5:M$81,"Оставить")>1,"Проверить",""))
A12: 8 | B12: ='Исходные данные'!B12 -> Записи менеджера | C12: ='Исходные данные'!C12 -> Olga Orlova | D12: =PROPER(TRIM(C12)) -> Olga Orlova | E12: ='Исходные данные'!D12&"" | F12: =SUBSTITUTE(SUBSTITUTE(SUBSTITUTE(SUBSTITUTE(SUBSTITUTE(E12," ",""),"-",""),"+",""),"(",""),")","") | G12: =IF(F12="","",IF(LEFT(F12,3)="372","+372 "&MID(F12,4,4)&" "&MID(F12,8,4),"+372 "&LEFT(F12,4)&" "&MID(F12,5,4))) | H12: ='Исходные данные'!E12 -> olga.orlova@example.com | I12: =LOWER(TRIM(H12)) -> olga.orlova@example.com | J12: ='Исходные данные'!F12 -> 14.03.25 | K12: =IF(MID(J12,5,1)="-",DATE(VALUE(LEFT(J12,4)),VALUE(MID(J12,6,2)),VALUE(RIGHT(J12,2))),IF(LEN(J12)=10,DATE(VALUE(RIGHT(J12,4)),VALUE(MID(J12,4,2)),VALUE(LEFT(J12,2))),DATE(2000+VALUE(RIGHT(J12,2)),VALUE(MID(J12,4,2)),VALUE(LEFT(J12,2))))) -> 45730 | L12: =TRIM(IF(EXACT(C12,D12),"","имя ")&IF(EXACT(E12,G12),"","телефон ")&IF(EXACT(H12,I12),"","email ")&IF(AND(LEN(J12)=10,MID(J12,3,1)="."),"","дата")) -> имя дата | M12: =IF(AND(G12<>"",COUNTIF(G$4:G11,G12)>0),"Дубль",IF(AND(I12<>"",COUNTIF(I$4:I11,I12)>0),"Дубль","Оставить")) -> Оставить | N12: =IF(M12="Дубль","",IF(COUNTIFS(D$5:D$81,D12,M$5:M$81,"Оставить")>1,"Проверить",""))
A13: 9 | B13: ='Исходные данные'!B13 -> Старый список (Excel) | C13: ='Исходные данные'!C13 -> LIIS OJA | D13: =PROPER(TRIM(C13)) -> Liis Oja | E13: ='Исходные данные'!D13&"" -> 5439 8634 | F13: =SUBSTITUTE(SUBSTITUTE(SUBSTITUTE(SUBSTITUTE(SUBSTITUTE(E13," ",""),"-",""),"+",""),"(",""),")","") -> 54398634 | G13: =IF(F13="","",IF(LEFT(F13,3)="372","+372 "&MID(F13,4,4)&" "&MID(F13,8,4),"+372 "&LEFT(F13,4)&" "&MID(F13,5,4))) -> +372 5439 8634 | H13: ='Исходные данные'!E13 -> liis.oja@example.net | I13: =LOWER(TRIM(H13)) -> liis.oja@example.net | J13: ='Исходные данные'!F13 -> 22.06.2023 | K13: =IF(MID(J13,5,1)="-",DATE(VALUE(LEFT(J13,4)),VALUE(MID(J13,6,2)),VALUE(RIGHT(J13,2))),IF(LEN(J13)=10,DATE(VALUE(RIGHT(J13,4)),VALUE(MID(J13,4,2)),VALUE(LEFT(J13,2))),DATE(2000+VALUE(RIGHT(J13,2)),VALUE(MID(J13,4,2)),VALUE(LEFT(J13,2))))) -> 45099 | L13: =TRIM(IF(EXACT(C13,D13),"","имя ")&IF(EXACT(E13,G13),"","телефон ")&IF(EXACT(H13,I13),"","email ")&IF(AND(LEN(J13)=10,MID(J13,3,1)="."),"","дата")) -> имя телефон | M13: =IF(AND(G13<>"",COUNTIF(G$4:G12,G13)>0),"Дубль",IF(AND(I13<>"",COUNTIF(I$4:I12,I13)>0),"Дубль","Оставить")) -> Оставить | N13: =IF(M13="Дубль","",IF(COUNTIFS(D$5:D$81,D13,M$5:M$81,"Оставить")>1,"Проверить",""))
A14: 10 | B14: ='Исходные данные'!B14 -> Записи менеджера | C14: ='Исходные данные'!C14 -> Triin Koppel | D14: =PROPER(TRIM(C14)) -> Triin Koppel | E14: ='Исходные данные'!D14&"" -> (+372) 5485 3154 | F14: =SUBSTITUTE(SUBSTITUTE(SUBSTITUTE(SUBSTITUTE(SUBSTITUTE(E14," ",""),"-",""),"+",""),"(",""),")","") -> 37254853154 | G14: =IF(F14="","",IF(LEFT(F14,3)="372","+372 "&MID(F14,4,4)&" "&MID(F14,8,4),"+372 "&LEFT(F14,4)&" "&MID(F14,5,4))) -> +372 5485 3154 | H14: ='Исходные данные'!E14 -> triin.koppel@example.net | I14: =LOWER(TRIM(H14)) -> triin.koppel@example.net | J14: ='Исходные данные'!F14 -> 03.01.24 | K14: =IF(MID(J14,5,1)="-",DATE(VALUE(LEFT(J14,4)),VALUE(MID(J14,6,2)),VALUE(RIGHT(J14,2))),IF(LEN(J14)=10,DATE(VALUE(RIGHT(J14,4)),VALUE(MID(J14,4,2)),VALUE(LEFT(J14,2))),DATE(2000+VALUE(RIGHT(J14,2)),VALUE(MID(J14,4,2)),VALUE(LEFT(J14,2))))) -> 45294 | L14: =TRIM(IF(EXACT(C14,D14),"","имя ")&IF(EXACT(E14,G14),"","телефон ")&IF(EXACT(H14,I14),"","email ")&IF(AND(LEN(J14)=10,MID(J14,3,1)="."),"","дата")) -> имя телефон дата | M14: =IF(AND(G14<>"",COUNTIF(G$4:G13,G14)>0),"Дубль",IF(AND(I14<>"",COUNTIF(I$4:I13,I14)>0),"Дубль","Оставить")) -> Оставить | N14: =IF(M14="Дубль","",IF(COUNTIFS(D$5:D$81,D14,M$5:M$81,"Оставить")>1,"Проверить","")) -> Проверить
A15: 11 | B15: ='Исходные данные'!B15 -> Старый список (Excel) | C15: ='Исходные данные'!C15 -> MARI POPOV | D15: =PROPER(TRIM(C15)) -> Mari Popov | E15: ='Исходные данные'!D15&"" -> 5741 4492 | F15: =SUBSTITUTE(SUBSTITUTE(SUBSTITUTE(SUBSTITUTE(SUBSTITUTE(E15," ",""),"-",""),"+",""),"(",""),")","") -> 57414492 | G15: =IF(F15="","",IF(LEFT(F15,3)="372","+372 "&MID(F15,4,4)&" "&MID(F15,8,4),"+372 "&LEFT(F15,4)&" "&MID(F15,5,4))) -> +372 5741 4492 | H15: ='Исходные данные'!E15 -> mari.popov@example.org | I15: =LOWER(TRIM(H15)) -> mari.popov@example.org | J15: ='Исходные данные'!F15 -> 20.01.2025 | K15: =IF(MID(J15,5,1)="-",DATE(VALUE(LEFT(J15,4)),VALUE(MID(J15,6,2)),VALUE(RIGHT(J15,2))),IF(LEN(J15)=10,DATE(VALUE(RIGHT(J15,4)),VALUE(MID(J15,4,2)),VALUE(LEFT(J15,2))),DATE(2000+VALUE(RIGHT(J15,2)),VALUE(MID(J15,4,2)),VALUE(LEFT(J15,2))))) -> 45677 | L15: =TRIM(IF(EXACT(C15,D15),"","имя ")&IF(EXACT(E15,G15),"","телефон ")&IF(EXACT(H15,I15),"","email ")&IF(AND(LEN(J15)=10,MID(J15,3,1)="."),"","дата")) -> имя телефон | M15: =IF(AND(G15<>"",COUNTIF(G$4:G14,G15)>0),"Дубль",IF(AND(I15<>"",COUNTIF(I$4:I14,I15)>0),"Дубль","Оставить")) -> Оставить | N15: =IF(M15="Дубль","",IF(COUNTIFS(D$5:D$81,D15,M$5:M$81,"Оставить")>1,"Проверить",""))
A16: 12 | B16: ='Исходные данные'!B16 -> Старый список (Excel) | C16: ='Исходные данные'!C16 -> Marko Popov | D16: =PROPER(TRIM(C16)) -> Marko Popov | E16: ='Исходные данные'!D16&"" -> 5268 3304 | F16: =SUBSTITUTE(SUBSTITUTE(SUBSTITUTE(SUBSTITUTE(SUBSTITUTE(E16," ",""),"-",""),"+",""),"(",""),")","") -> 52683304 | G16: =IF(F16="","",IF(LEFT(F16,3)="372","+372 "&MID(F16,4,4)&" "&MID(F16,8,4),"+372 "&LEFT(F16,4)&" "&MID(F16,5,4))) -> +372 5268 3304 | H16: ='Исходные данные'!E16 -> marko.popov@example.com | I16: =LOWER(TRIM(H16)) -> marko.popov@example.com | J16: ='Исходные данные'!F16 -> 15.04.2023 | K16: =IF(MID(J16,5,1)="-",DATE(VALUE(LEFT(J16,4)),VALUE(MID(J16,6,2)),VALUE(RIGHT(J16,2))),IF(LEN(J16)=10,DATE(VALUE(RIGHT(J16,4)),VALUE(MID(J16,4,2)),VALUE(LEFT(J16,2))),DATE(2000+VALUE(RIGHT(J16,2)),VALUE(MID(J16,4,2)),VALUE(LEFT(J16,2))))) -> 45031 | L16: =TRIM(IF(EXACT(C16,D16),"","имя ")&IF(EXACT(E16,G16),"","телефон ")&IF(EXACT(H16,I16),"","email ")&IF(AND(LEN(J16)=10,MID(J16,3,1)="."),"","дата")) -> телефон | M16: =IF(AND(G16<>"",COUNTIF(G$4:G15,G16)>0),"Дубль",IF(AND(I16<>"",COUNTIF(I$4:I15,I16)>0),"Дубль","Оставить")) -> Оставить | N16: =IF(M16="Дубль","",IF(COUNTIFS(D$5:D$81,D16,M$5:M$81,"Оставить")>1,"Проверить",""))
... A81: 77 | B81: ='Исходные данные'!B81 -> Выгрузка магазина | C81: ='Исходные данные'!C81 -> dmitri raud | D81: =PROPER(TRIM(C81)) -> Dmitri Raud | E81: ='Исходные данные'!D81&"" -> +37253943283 | F81: =SUBSTITUTE(SUBSTITUTE(SUBSTITUTE(SUBSTITUTE(SUBSTITUTE(E81," ",""),"-",""),"+",""),"(",""),")","") -> 37253943283 | G81: =IF(F81="","",IF(LEFT(F81,3)="372","+372 "&MID(F81,4,4)&" "&MID(F81,8,4),"+372 "&LEFT(F81,4)&" "&MID(F81,5,4))) -> +372 5394 3283 | H81: ='Исходные данные'!E81 -> DMITRI.RAUD@EXAMPLE.NET | I81: =LOWER(TRIM(H81)) -> dmitri.raud@example.net | J81: ='Исходные данные'!F81 -> 2023-03-08 | K81: =IF(MID(J81,5,1)="-",DATE(VALUE(LEFT(J81,4)),VALUE(MID(J81,6,2)),VALUE(RIGHT(J81,2))),IF(LEN(J81)=10,DATE(VALUE(RIGHT(J81,4)),VALUE(MID(J81,4,2)),VALUE(LEFT(J81,2))),DATE(2000+VALUE(RIGHT(J81,2)),VALUE(MID(J81,4,2)),VALUE(LEFT(J81,2))))) -> 44993 | L81: =TRIM(IF(EXACT(C81,D81),"","имя ")&IF(EXACT(E81,G81),"","телефон ")&IF(EXACT(H81,I81),"","email ")&IF(AND(LEN(J81)=10,MID(J81,3,1)="."),"","дата")) -> имя телефон email дата | M81: =IF(AND(G81<>"",COUNTIF(G$4:G80,G81)>0),"Дубль",IF(AND(I81<>"",COUNTIF(I$4:I80,I81)>0),"Дубль","Оставить")) -> Дубль | N81: =IF(M81="Дубль","",IF(COUNTIFS(D$5:D$81,D81,M$5:M$81,"Оставить")>1,"Проверить",""))

Sheet Чистая база
A1: Чистая база
A2: Готовый список: один клиент = одна строка. Собран формулами из листа «Обработка»
A4: № | B4: Имя | C4: Телефон | D4: Email | E4: Добавлен | F4: Источник | G4: Пометка
A5: 1 | B5: =Обработка!D5 -> Natalja Lepp | C5: =Обработка!G5 -> +372 5839 0885 | D5: =Обработка!I5 -> natalja.lepp@example.net | E5: =Обработка!K5 -> 45177 | F5: =Обработка!B5 -> Старый список (Excel) | G5: =Обработка!N5
A6: 2 | B6: =Обработка!D6 -> Piret Koppel | C6: =Обработка!G6 -> +372 5963 2402 | D6: =Обработка!I6 -> piret.koppel@example.com | E6: =Обработка!K6 -> 45568 | F6: =Обработка!B6 -> Старый список (Excel) | G6: =Обработка!N6
A7: 3 | B7: =Обработка!D7 -> Tõnu Kallas | C7: =Обработка!G7 -> +372 5170 2635 | D7: =Обработка!I7 -> tonu.kallas@example.net | E7: =Обработка!K7 -> 45525 | F7: =Обработка!B7 -> Выгрузка магазина | G7: =Обработка!N7 -> Проверить
A8: 4 | B8: =Обработка!D8 -> Irina Popov | C8: =Обработка!G8 -> +372 5518 5891 | D8: =Обработка!I8 -> irina.popov@example.net | E8: =Обработка!K8 -> 45009 | F8: =Обработка!B8 -> Выгрузка магазина | G8: =Обработка!N8
A9: 5 | B9: =Обработка!D9 -> Anu Ilves | C9: =Обработка!G9 -> +372 5429 8229 | D9: =Обработка!I9 -> anu.ilves@example.net | E9: =Обработка!K9 -> 45524 | F9: =Обработка!B9 -> Записи менеджера | G9: =Обработка!N9
A10: 6 | B10: =Обработка!D10 -> Kristiina Zahharov | C10: =Обработка!G10 -> +372 5867 9867 | D10: =Обработка!I10 -> kristiina.zahharov@example.org | E10: =Обработка!K10 -> 45538 | F10: =Обработка!B10 -> Выгрузка магазина | G10: =Обработка!N10
A11: 7 | B11: =Обработка!D11 -> Peeter Laur | C11: =Обработка!G11 -> +372 5958 8401 | D11: =Обработка!I11 -> peeter.laur@example.org | E11: =Обработка!K11 -> 45956 | F11: =Обработка!B11 -> Записи менеджера | G11: =Обработка!N11
A12: 8 | B12: =Обработка!D12 -> Olga Orlova | C12: =Обработка!G12 | D12: =Обработка!I12 -> olga.orlova@example.com | E12: =Обработка!K12 -> 45730 | F12: =Обработка!B12 -> Записи менеджера | G12: =Обработка!N12
A13: 9 | B13: =Обработка!D13 -> Liis Oja | C13: =Обработка!G13 -> +372 5439 8634 | D13: =Обработка!I13 -> liis.oja@example.net | E13: =Обработка!K13 -> 45099 | F13: =Обработка!B13 -> Старый список (Excel) | G13: =Обработка!N13
A14: 10 | B14: =Обработка!D14 -> Triin Koppel | C14: =Обработка!G14 -> +372 5485 3154 | D14: =Обработка!I14 -> triin.koppel@example.net | E14: =Обработка!K14 -> 45294 | F14: =Обработка!B14 -> Записи менеджера | G14: =Обработка!N14 -> Проверить
A15: 11 | B15: =Обработка!D15 -> Mari Popov | C15: =Обработка!G15 -> +372 5741 4492 | D15: =Обработка!I15 -> mari.popov@example.org | E15: =Обработка!K15 -> 45677 | F15: =Обработка!B15 -> Старый список (Excel) | G15: =Обработка!N15
A16: 12 | B16: =Обработка!D16 -> Marko Popov | C16: =Обработка!G16 -> +372 5268 3304 | D16: =Обработка!I16 -> marko.popov@example.com | E16: =Обработка!K16 -> 45031 | F16: =Обработка!B16 -> Старый список (Excel) | G16: =Обработка!N16
... A18: 14 | B18: =Обработка!D18 -> Jaan Sepp | C18: =Обработка!G18 -> +372 5573 0535 | D18: =Обработка!I18 -> jaan.sepp@example.org | E18: =Обработка!K18 -> 45935 | F18: =Обработка!B18 -> Старый список (Excel) | G18: =Обработка!N18
A19: 15 | B19: =Обработка!D22 -> Aleksei Orlova | C19: =Обработка!G22 -> +372 5936 0271 | D19: =Обработка!I22 -> aleksei.orlova@example.com | E19: =Обработка!K22 -> 45495 | F19: =Обработка!B22 -> Старый список (Excel) | G19: =Обработка!N22
A20: 16 | B20: =Обработка!D25 -> Svetlana Teder | C20: =Обработка!G25 -> +372 5610 2708 | D20: =Обработка!I25 -> svetlana.teder@example.com | E20: =Обработка!K25 -> 44998 | F20: =Обработка!B25 -> Выгрузка магазина | G20: =Обработка!N25
A21: 17 | B21: =Обработка!D26 -> Kadri Kivi | C21: =Обработка!G26 -> +372 5179 5266 | D21: =Обработка!I26 -> kadri.kivi@example.com | E21: =Обработка!K26 -> 44943 | F21: =Обработка!B26 -> Старый список (Excel) | G21: =Обработка!N26
A22: 18 | B22: =Обработка!D27 -> Kersti Zahharov | C22: =Обработка!G27 -> +372 5317 3395 | D22: =Обработка!I27 -> kersti.zahharov@example.org | E22: =Обработка!K27 -> 45344 | F22: =Обработка!B27 -> Выгрузка магазина | G22: =Обработка!N27
A23: 19 | B23: =Обработка!D28 -> Mari Saar | C23: =Обработка!G28 -> +372 5551 6324 | D23: =Обработка!I28 -> mari.saar@example.org | E23: =Обработка!K28 -> 45384 | F23: =Обработка!B28 -> Выгрузка магазина | G23: =Обработка!N28
A24: 20 | B24: =Обработка!D29 -> Kadri Tamm | C24: =Обработка!G29 -> +372 5100 9142 | D24: =Обработка!I29 -> kadri.tamm@example.com | E24: =Обработка!K29 -> 44942 | F24: =Обработка!B29 -> Старый список (Excel) | G24: =Обработка!N29
A25: 21 | B25: =Обработка!D30 -> Anu Volkov | C25: =Обработка!G30 -> +372 5938 4802 | D25: =Обработка!I30 -> anu.volkov@example.com | E25: =Обработка!K30 -> 45703 | F25: =Обработка!B30 -> Записи менеджера | G25: =Обработка!N30
A26: 22 | B26: =Обработка!D31 -> Kadri Ivanova | C26: =Обработка!G31 -> +372 5507 7080 | D26: =Обработка!I31 -> kadri.ivanova@example.com | E26: =Обработка!K31 -> 45820 | F26: =Обработка!B31 -> Выгрузка магазина | G26: =Обработка!N31
A27: 23 | B27: =Обработка!D32 -> Anu Pärn | C27: =Обработка!G32 -> +372 5295 4679 | D27: =Обработка!I32 -> anu.parn@example.org | E27: =Обработка!K32 -> 45383 | F27: =Обработка!B32 -> Выгрузка магазина | G27: =Обработка!N32
A28: 24 | B28: =Обработка!D33 -> Kadri Vaher | C28: =Обработка!G33 -> +372 5293 9116 | D28: =Обработка!I33 -> kadri.vaher@example.org | E28: =Обработка!K33 -> 45637 | F28: =Обработка!B33 -> Выгрузка магазина | G28: =Обработка!N33
A29: 25 | B29: =Обработка!D34 -> Aleksei Kuusk | C29: =Обработка!G34 -> +372 5623 1214 | D29: =Обработка!I34 -> aleksei.kuusk@example.com | E29: =Обработка!K34 -> 45220 | F29: =Обработка!B34 -> Старый список (Excel) | G29: =Обработка!N34
A30: 26 | B30: =Обработка!D35 -> Sergei Tamm | C30: =Обработка!G35 -> +372 5486 2478 | D30: =Обработка!I35 -> sergei.tamm@example.net | E30: =Обработка!K35 -> 45163 | F30: =Обработка!B35 -> Старый список (Excel) | G30: =Обработка!N35
A31: 27 | B31: =Обработка!D37 -> Tõnu Kallas | C31: =Обработка!G37 -> +372 5630 9768 | D31: =Обработка!I37 -> tonu.kallas2@example.net | E31: =Обработка!K37 -> 45525 | F31: =Обработка!B37 -> Выгрузка магазина | G31: =Обработка!N37 -> Проверить
A32: 28 | B32: =Обработка!D38 -> Katrin Raud | C32: =Обработка!G38 -> +372 5335 4635 | D32: =Обработка!I38 -> katrin.raud@example.net | E32: =Обработка!K38 -> 44942 | F32: =Обработка!B38 -> Старый список (Excel) | G32: =Обработка!N38
A33: 29 | B33: =Обработка!D40 -> Kadri Kozlov | C33: =Обработка!G40 | D33: =Обработка!I40 -> kadri.kozlov@example.net | E33: =Обработка!K40 -> 45448 | F33: =Обработка!B40 -> Записи менеджера | G33: =Обработка!N40
A34: 30 | B34: =Обработка!D42 -> Sergei Kallas | C34: =Обработка!G42 -> +372 5230 3074 | D34: =Обработка!I42 -> sergei.kallas@example.org | E34: =Обработка!K42 -> 45157 | F34: =Обработка!B42 -> Старый список (Excel) | G34: =Обработка!N42
A35: 31 | B35: =Обработка!D45 -> Mihhail Oja | C35: =Обработка!G45 | D35: =Обработка!I45 -> mihhail.oja@example.org | E35: =Обработка!K45 -> 45087 | F35: =Обработка!B45 -> Записи менеджера | G35: =Обработка!N45
A36: 32 | B36: =Обработка!D46 -> Peeter Mägi | C36: =Обработка!G46 -> +372 5849 2589 | D36: =Обработка!I46 -> peeter.magi@example.org | E36: =Обработка!K46 -> 44975 | F36: =Обработка!B46 -> Выгрузка магазина | G36: =Обработка!N46
A37: 33 | B37: =Обработка!D47 -> Svetlana Smirnov | C37: =Обработка!G47 -> +372 5757 0141 | D37: =Обработка!I47 -> svetlana.smirnov@example.org | E37: =Обработка!K47 -> 45581 | F37: =Обработка!B47 -> Выгрузка магазина | G37: =Обработка!N47
A38: 34 | B38: =Обработка!D48 -> Dmitri Raud | C38: =Обработка!G48 -> +372 5394 3283 | D38: =Обработка!I48 -> dmitri.raud@example.net | E38: =Обработка!K48 -> 44993 | F38: =Обработка!B48 -> Старый список (Excel) | G38: =Обработка!N48
A39: 35 | B39: =Обработка!D49 -> Mari Kivi | C39: =Обработка!G49 | D39: =Обработка!I49 -> mari.kivi@example.com | E39: =Обработка!K49 -> 45264 | F39: =Обработка!B49 -> Записи менеджера | G39: =Обработка!N49
A40: 36 | B40: =Обработка!D50 -> Natalja Teder | C40: =Обработка!G50 -> +372 5881 2311 | D40: =Обработка!I50 -> natalja.teder@example.org | E40: =Обработка!K50 -> 45937 | F40: =Обработка!B50 -> Выгрузка магазина | G40: =Обработка!N50
A41: 37 | B41: =Обработка!D51 -> Igor Popov | C41: =Обработка!G51 -> +372 5364 2312 | D41: =Обработка!I51 -> igor.popov@example.net | E41: =Обработка!K51 -> 45172 | F41: =Обработка!B51 -> Записи менеджера | G41: =Обработка!N51
A42: 38 | B42: =Обработка!D52 -> Svetlana Tamm | C42: =Обработка!G52 -> +372 5651 8956 | D42: =Обработка!I52 -> svetlana.tamm@example.org | E42: =Обработка!K52 -> 45325 | F42: =Обработка!B52 -> Записи менеджера | G42: =Обработка!N52
...

Sheet Спорные случаи
B1: Спорные случаи
B2: Нужен ваш ответ: это один человек или два?
B4: Имя | C4: Телефон | D4: Email | E4: Источник | F4: Что вижу | G4: Ваше решение
B5: =Обработка!D7 -> Tõnu Kallas | C5: =Обработка!G7 -> +372 5170 2635 | D5: =Обработка!I7 -> tonu.kallas@example.net | E5: =Обработка!B7 -> Выгрузка магазина | F5: Имя совпадает, а телефон и почта разные. Может быть однофамилец, а может человек сменил номер. | G5: один / два человека?
B6: =Обработка!D37 -> Tõnu Kallas | C6: =Обработка!G37 -> +372 5630 9768 | D6: =Обработка!I37 -> tonu.kallas2@example.net | E6: =Обработка!B37 -> Выгрузка магазина
B7: =Обработка!D14 -> Triin Koppel | C7: =Обработка!G14 -> +372 5485 3154 | D7: =Обработка!I14 -> triin.koppel@example.net | E7: =Обработка!B14 -> Записи менеджера | F7: Имя совпадает, а телефон и почта разные. Может быть однофамилец, а может человек сменил номер. | G7: один / два человека?
B8: =Обработка!D70 -> Triin Koppel | C8: =Обработка!G70 -> +372 5452 1412 | D8: =Обработка!I70 -> triin_koppel@example.net | E8: =Обработка!B70 -> Старый список (Excel)
B10: Жёлтая колонка для вашего ответа. Если это один человек, оставлю актуальный телефон и объединю строки.
A12: Пример типичной задачи Selge Data. Компания и все данные вымышлены, совпадения случайны.
